BEGIN:VCALENDAR
VERSION:2.0
PRODID:-//DWS Arnhem - ECPv6.15.20//NONSGML v1.0//EN
CALSCALE:GREGORIAN
METHOD:PUBLISH
X-WR-CALNAME:DWS Arnhem
X-ORIGINAL-URL:https://dwsarnhem.nl
X-WR-CALDESC:Evenementen voor DWS Arnhem
REFRESH-INTERVAL;VALUE=DURATION:PT1H
X-Robots-Tag:noindex
X-PUBLISHED-TTL:PT1H
BEGIN:VTIMEZONE
TZID:UTC
BEGIN:STANDARD
TZOFFSETFROM:+0000
TZOFFSETTO:+0000
TZNAME:UTC
DTSTART:20240101T000000
END:STANDARD
END:VTIMEZONE
BEGIN:VEVENT
DTSTART;TZID=UTC:20250216T140000
DTEND;TZID=UTC:20250216T170000
DTSTAMP:20260420T224811
CREATED:20241108T093312Z
LAST-MODIFIED:20241108T095847Z
UID:350-1739714400-1739725200@dwsarnhem.nl
SUMMARY:DWS Valentijnsjam: muzikaal improviseren in romantische sferen
DESCRIPTION:Op zondag 16 februari organiseert muziekvereniging DWS Arnhem een speciale Valentijnsjam\, een middag vol muziek en romantische sferen! Tijdens dit evenement komen muzikanten van alle niveaus samen om hun talenten te laten horen en gezamenlijk te jammen. Het publiek kan genieten van een sfeervol muzikaal programma met een vleugje romantiek\, onder het genot van een hapje en een drankje. \nDe muzikanten verzamelen zich om 13.00 uur om hun instrumenten en ideeën op elkaar af te stemmen. Vanaf 14.00 uur is het publiek van harte welkom om te komen luisteren en mee te genieten van de muzikale optredens. Het evenement duurt tot 17.00 uur en belooft een liefdevolle middag te worden vol muzikale verrassingen. Wie weet dans jij wel met je geliefde op jullie favoriete romantische song! \nMuzikanten van alle niveaus zijn van harte welkom om mee te spelen! Of je nu net begint of al gevorderd bent\, er is altijd plek voor jouw unieke sound. Het evenement vindt plaats in het clubgebouw van DWS Arnhem\, gelegen aan de Korianderstraat 81 in Arnhem (zij-ingang bij Veerpolderstraat).
URL:https://dwsarnhem.nl/agendapunt/dws-jamsessie-in-valentijnsferen/
LOCATION:DWS Arnhem\, Korianderstraat 81\, Arnhem\, 6833CN\, Netherlands
CATEGORIES:Jamsessie
ATTACH;FMTTYPE=image/jpeg:https://dwsarnhem.nl/wp-content/uploads/2024/11/romantiek.jpg
END:VEVENT
END:VCALENDAR