BEGIN:VCALENDAR
VERSION:2.0
PRODID:-//DWS Arnhem - ECPv6.15.20//NONSGML v1.0//EN
CALSCALE:GREGORIAN
METHOD:PUBLISH
X-WR-CALNAME:DWS Arnhem
X-ORIGINAL-URL:https://dwsarnhem.nl
X-WR-CALDESC:Evenementen voor DWS Arnhem
REFRESH-INTERVAL;VALUE=DURATION:PT1H
X-Robots-Tag:noindex
X-PUBLISHED-TTL:PT1H
BEGIN:VTIMEZONE
TZID:UTC
BEGIN:STANDARD
TZOFFSETFROM:+0000
TZOFFSETTO:+0000
TZNAME:UTC
DTSTART:20240101T000000
END:STANDARD
END:VTIMEZONE
BEGIN:VEVENT
DTSTART;TZID=UTC:20250824T140000
DTEND;TZID=UTC:20250824T170000
DTSTAMP:20260420T043106
CREATED:20250822T193234Z
LAST-MODIFIED:20250822T193234Z
UID:463-1756044000-1756054800@dwsarnhem.nl
SUMMARY:Zondag weer een jamsessie bij DWS
DESCRIPTION:Weer een jamsessie bij DWS! \nOp zondag 24 augustus is het weer tijd voor een jamsessie van muziekvereniging DWS Arnhem! Tijdens dit evenement komen muzikanten van alle niveaus samen om hun talenten te laten horen en gezamenlijk te jammen. Het publiek kan genieten van een sfeervol muzikaal programma onder het genot van een hapje en een drankje. \nDe muzikanten verzamelen zich om 13.00 uur om hun instrumenten en ideeën op elkaar af te stemmen. Vanaf 14.00 uur is het publiek van harte welkom om te komen luisteren en mee te genieten van de muzikale optredens. Het evenement duurt tot 17.00 uur en het belooft een majesteitelijke middag te worden! \nMuzikanten van alle niveaus zijn van harte welkom om mee te spelen! Of je nu net begint of al gevorderd bent\, jij kunt die middag je eigen zon laten schijnen met jouw stem of met jouw instrument. Het evenement vindt plaats in het clubgebouw van DWS Arnhem\, gelegen aan de Korianderstraat 81 in Arnhem (zij-ingang bij Veerpolderstraat).
URL:https://dwsarnhem.nl/agendapunt/zondag-weer-een-jamsessie-bij-dws/
LOCATION:DWS Arnhem\, Korianderstraat 81\, Arnhem\, 6833CN\, Netherlands
CATEGORIES:Jamsessie
ATTACH;FMTTYPE=image/jpeg:https://dwsarnhem.nl/wp-content/uploads/2025/02/Piano_practice_hands-scaled.jpg
ORGANIZER;CN="DWS Arnhem":MAILTO:info@dwsarnhem.nl
END:VEVENT
END:VCALENDAR