BEGIN:VCALENDAR
VERSION:2.0
PRODID:-//DWS Arnhem - ECPv6.15.20//NONSGML v1.0//EN
CALSCALE:GREGORIAN
METHOD:PUBLISH
X-WR-CALNAME:DWS Arnhem
X-ORIGINAL-URL:https://dwsarnhem.nl
X-WR-CALDESC:Evenementen voor DWS Arnhem
REFRESH-INTERVAL;VALUE=DURATION:PT1H
X-Robots-Tag:noindex
X-PUBLISHED-TTL:PT1H
BEGIN:VTIMEZONE
TZID:UTC
BEGIN:STANDARD
TZOFFSETFROM:+0000
TZOFFSETTO:+0000
TZNAME:UTC
DTSTART:20240101T000000
END:STANDARD
END:VTIMEZONE
BEGIN:VEVENT
DTSTART;TZID=UTC:20251214T130000
DTEND;TZID=UTC:20251214T170000
DTSTAMP:20260420T031316
CREATED:20250908T212939Z
LAST-MODIFIED:20250908T213048Z
UID:489-1765717200-1765731600@dwsarnhem.nl
SUMMARY:Magisch jammen op de DWS Kerstjamsessie
DESCRIPTION:De kerstbomen staan weer in de woonkamers en het wordt ook weer tijd voor een jamsessie! \nOp zondag 14 december is het tijd voor een feestelijke kerstjamsessie van muziekvereniging DWS Arnhem! Tijdens dit evenement komen muzikanten van alle niveaus samen om hun talenten te laten horen en gezamenlijk in kerstsferen te jammen. Het publiek kan genieten van een gezellig muzikaal programma onder het genot van een hapje\, een drankje en misschien wel een kerstkoekje. \nDe muzikanten verzamelen zich om 13:00 uur om hun instrumenten en ideeën op elkaar af te stemmen. Vanaf 14:00 uur is het publiek van harte welkom om te komen luisteren en mee te genieten. Het evenement duurt tot 17:00 uur en het belooft een magische\, kerstachtige middag te worden! \nMuzikanten van alle niveaus zijn van harte welkom om mee te spelen! Of je nu net begint of al gevorderd bent\, jij kunt die middag je eigen kerstklanken toevoegen. \n📅 Wanneer? Zondag 14 december\, 13:00–17:00 uur 📍 Waar? Clubgebouw DWS Arnhem\, Korianderstraat 81\, Arnhem (zij-ingang bij Veerpolderstraat)
URL:https://dwsarnhem.nl/agendapunt/magisch-jammen-op-de-dws-kerstjamsessie/
LOCATION:DWS Arnhem\, Korianderstraat 81\, Arnhem\, 6833CN\, Netherlands
CATEGORIES:Jamsessie
ATTACH;FMTTYPE=image/jpeg:https://dwsarnhem.nl/wp-content/uploads/2024/12/christmas-balls-1847384_1280-1.jpg
END:VEVENT
BEGIN:VEVENT
DTSTART;TZID=UTC:20260222T130000
DTEND;TZID=UTC:20260222T170000
DTSTAMP:20260420T031316
CREATED:20260124T185711Z
LAST-MODIFIED:20260124T190948Z
UID:532-1771765200-1771779600@dwsarnhem.nl
SUMMARY:Jamsessie: DWS krokusjam
DESCRIPTION:Bloeien de krokussen en de narcissen? Komt langzaam maar zeker de lente weer aan? Dan wordt het weer hoog tijd voor een jamsessie bij DWS! \nOp zondag 22 februari is het zover! Tijdens dit evenement komen muzikanten van alle niveaus samen om hun talenten te laten horen en gezamenlijk te jammen in voorjaarssferen. Het publiek kan genieten van een gezellig muzikaal programma onder het genot van een hapje\, en een drankje. \nDe muzikanten verzamelen zich om 13:00 uur om hun instrumenten en ideeën op elkaar af te stemmen. Vanaf 14:00 uur is het publiek van harte welkom om te komen luisteren en mee te genieten. Het evenement duurt tot 17:00 uur. \nMuzikanten van alle niveaus zijn van harte welkom om mee te spelen! Of je nu net begint of al gevorderd bent\, jij kunt die middag je eigen voorjaarsklanken toevoegen.
URL:https://dwsarnhem.nl/agendapunt/jamsessie-dws-krokusjam/
LOCATION:DWS Arnhem\, Korianderstraat 81\, Arnhem\, 6833CN\, Netherlands
CATEGORIES:Jamsessie
ATTACH;FMTTYPE=image/jpeg:https://dwsarnhem.nl/wp-content/uploads/2026/01/people-2943124_640.jpg
ORGANIZER;CN="DWS Arnhem":MAILTO:info@dwsarnhem.nl
END:VEVENT
BEGIN:VEVENT
DTSTART;TZID=UTC:20260426T130000
DTEND;TZID=UTC:20260426T170000
DTSTAMP:20260420T031316
CREATED:20260124T191907Z
LAST-MODIFIED:20260124T195435Z
UID:538-1777208400-1777222800@dwsarnhem.nl
SUMMARY:Jamsessie: DWS Koningsjam
DESCRIPTION:Lekker jammen met een diverse groep muzikanten? Dat kan op zondag 26 april! Tijdens dit evenement komen muzikanten van alle niveaus samen om hun talenten te laten horen en gezamenlijk te jammen in oranje sferen. Bereid je muzikaal voor op Koningsdag! Het publiek kan genieten van een gezellig muzikaal programma onder het genot van een hapje\, en een drankje. \nDe muzikanten verzamelen zich om 13:00 uur om hun instrumenten en ideeën op elkaar af te stemmen. Vanaf 14:00 uur is het publiek van harte welkom om te komen luisteren en mee te genieten. Het evenement duurt tot 17:00 uur. \nMuzikanten van alle niveaus zijn van harte welkom om mee te spelen! Of je nu net begint of al gevorderd bent\, jij kunt die middag je eigen koninklijke klanken toevoegen.
URL:https://dwsarnhem.nl/agendapunt/jamsessie-dws-koningsjam/
LOCATION:DWS Arnhem\, Korianderstraat 81\, Arnhem\, 6833CN\, Netherlands
CATEGORIES:Jamsessie
ATTACH;FMTTYPE=image/jpeg:https://dwsarnhem.nl/wp-content/uploads/2025/02/koning.jpg
ORGANIZER;CN="DWS Arnhem":MAILTO:info@dwsarnhem.nl
END:VEVENT
BEGIN:VEVENT
DTSTART;TZID=UTC:20260927T130000
DTEND;TZID=UTC:20260927T170000
DTSTAMP:20260420T031316
CREATED:20260124T194901Z
LAST-MODIFIED:20260124T195047Z
UID:545-1790514000-1790528400@dwsarnhem.nl
SUMMARY:Jamsessie: DWS Najaarsjam
DESCRIPTION:De zomer is voorbij en de eerste blaadjes beginnen al te vallen. Maar niet getreurd! Bij de DWS Najaarsjam spelen we met elkaar de herfstblues weg. \nDit doen we op zondag 27 september! Tijdens dit evenement komen muzikanten van alle niveaus samen om hun talenten te laten horen en gezamenlijk te jammen in oranje sferen. Bereid je muzikaal voor op Koningsdag! Het publiek kan genieten van een gezellig muzikaal programma onder het genot van een hapje\, en een drankje. \nDe muzikanten verzamelen zich om 13:00 uur om hun instrumenten en ideeën op elkaar af te stemmen. Vanaf 14:00 uur is het publiek van harte welkom om te komen luisteren en mee te genieten. Het evenement duurt tot 17:00 uur. \nMuzikanten van alle niveaus zijn van harte welkom om mee te spelen! Of je nu net begint of al gevorderd bent\, jij kunt die middag je eigen klanken in alle herfstkleuren toevoegen.
URL:https://dwsarnhem.nl/agendapunt/jamsessie-dws-najaarsjam/
LOCATION:DWS Arnhem\, Korianderstraat 81\, Arnhem\, 6833CN\, Netherlands
CATEGORIES:Jamsessie
ATTACH;FMTTYPE=image/jpeg:https://dwsarnhem.nl/wp-content/uploads/2026/01/rock-music-play-instrument-artistic-musician-1206660-pxhere.com_-scaled.jpg
ORGANIZER;CN="DWS Arnhem":MAILTO:info@dwsarnhem.nl
END:VEVENT
BEGIN:VEVENT
DTSTART;TZID=UTC:20261129T130000
DTEND;TZID=UTC:20261129T170000
DTSTAMP:20260420T031316
CREATED:20260124T201438Z
LAST-MODIFIED:20260124T201438Z
UID:548-1795957200-1795971600@dwsarnhem.nl
SUMMARY:Jamsessie: DWS Sinterjam
DESCRIPTION:Wees je instrument de baas\nEen weekje voor Sint Nicolaas.\nDe 29e is een zondag\nDat je samenspelen mag! \nSpeler en kijker worden volgegoten\nMet peper- en muzieknoten!\nMet in de hand een kopje thee\nSpeel en zing je met ons mee! \nVan zondagmiddag 1 tot 5\nGaan we notenbalken te lijf.\nVan amateur tot virtuoos…\nWelkom zijn echt alle niveaus!
URL:https://dwsarnhem.nl/agendapunt/jamsessie-dws-sinterjam/
LOCATION:DWS Arnhem\, Korianderstraat 81\, Arnhem\, 6833CN\, Netherlands
CATEGORIES:Jamsessie
ATTACH;FMTTYPE=image/jpeg:https://dwsarnhem.nl/wp-content/uploads/2024/11/Amerigo_with_Sinterklaas_2008.jpg
ORGANIZER;CN="DWS Arnhem":MAILTO:info@dwsarnhem.nl
END:VEVENT
END:VCALENDAR